BEGIN:VCALENDAR
VERSION:2.0
PRODID:icalendar-ruby
CALSCALE:GREGORIAN
METHOD:PUBLISH
BEGIN:VEVENT
DTSTAMP:20260424T132055Z
UID:130-666329@tfnaz.org
DTSTART:20260425T200000Z
DTEND:20260426T000000Z
CLASS:PUBLIC
CREATED:20260421T103924
DESCRIPTION:Come join DoorStep THIS Saturday\, April 25th! This fun event o
 pen to all! $20 entry for show vehicles and craft vendors.\nFree will dona
 tion of non perishable food item for general admission!\nCome check out th
 e cool cars\, live music\, food trucks\, and craft vendors!!!! \nFor furt
 her Information contact: Misty Patel with Penwell-Gabel at (785) 354-8558.
LAST-MODIFIED:20260421T103924
LOCATION:PENWELL-GABEL FUNERAL HOME
SUMMARY:Car show for Doorstep
URL;VALUE=URI:https://www.tfnaz.org/events/car-show-for-doorstep/2026-04-25
ATTACH;FILENAME=Car Show to Benefit DoorStep - Info Graphic.png;FMTTYPE=ima
 ge/png:https://dq5pwpg1q8ru0.cloudfront.net/2026/04/17/21/53/22/99784198-1
 e5b-4c9a-98ee-261c7304b423/Car%20Show%20to%20Benefit%20DoorStep%20-%20Info
 %20Graphic.png
END:VEVENT
END:VCALENDAR
