BEGIN:VCALENDAR
VERSION:2.0
PRODID:icalendar-ruby
CALSCALE:GREGORIAN
METHOD:PUBLISH
BEGIN:VEVENT
DTSTAMP:20260424T133730Z
UID:129-666338@tfnaz.org
DTSTART:20260501T150000Z
DTEND:20260501T160000Z
CLASS:PUBLIC
CREATED:20260421T104116
DESCRIPTION:Come join us in prayer for the spiritual needs at TFN\, in our 
 personal lives\, in the lives of those God may be leading us to bless\, in
  our immediate TFN neghborhood\, and in the neighborhoods where we live as
  well as pray for the spiritual work God is doing &amp\; wants to do in al
 l of us!!\nSanctuary is open!!\nMeeting every Friday\, unless publicized o
 therwise! 
LAST-MODIFIED:20260421T104116
LOCATION:First Church of the Nazarene
SUMMARY:Frontline Prayer
URL;VALUE=URI:https://www.tfnaz.org/events/frontline-prayer/2026-05-01
ATTACH;FILENAME=Frontline Prayer - Info Graphic.PNG;FMTTYPE=image/png:https
 ://dq5pwpg1q8ru0.cloudfront.net/2026/04/17/21/48/30/419ab8d2-a255-4002-b87
 2-b6224e549b33/Frontline%20Prayer%20-%20Info%20Graphic.PNG
END:VEVENT
END:VCALENDAR
